BEGIN:VCALENDAR
VERSION:2.0
PRODID:-//Miri Golf Club - ECPv6.15.14//NONSGML v1.0//EN
CALSCALE:GREGORIAN
METHOD:PUBLISH
X-ORIGINAL-URL:https://mirigolfclub-sarawak.com
X-WR-CALDESC:Events for Miri Golf Club
REFRESH-INTERVAL;VALUE=DURATION:PT1H
X-Robots-Tag:noindex
X-PUBLISHED-TTL:PT1H
BEGIN:VTIMEZONE
TZID:UTC
BEGIN:STANDARD
TZOFFSETFROM:+0000
TZOFFSETTO:+0000
TZNAME:UTC
DTSTART:20240101T000000
END:STANDARD
END:VTIMEZONE
BEGIN:VEVENT
DTSTART;VALUE=DATE:20251004
DTEND;VALUE=DATE:20251005
DTSTAMP:20260422T115111
CREATED:20250322T041947Z
LAST-MODIFIED:20250527T155407Z
UID:1783-1759536000-1759622399@mirigolfclub-sarawak.com
SUMMARY:OCT MMEDAL
DESCRIPTION:OCT MMEDAL
URL:https://mirigolfclub-sarawak.com/event/oct-mmedal-q-rd-mplay-cship/
CATEGORIES:Golf Events
END:VEVENT
BEGIN:VEVENT
DTSTART;VALUE=DATE:20251017
DTEND;VALUE=DATE:20251018
DTSTAMP:20260422T115111
CREATED:20250322T041802Z
LAST-MODIFIED:20250520T135128Z
UID:1780-1760659200-1760745599@mirigolfclub-sarawak.com
SUMMARY:35TH KGM OPEN
DESCRIPTION:35TH KGM OPEN
URL:https://mirigolfclub-sarawak.com/event/35th-kgm-open/
CATEGORIES:Golf Events
END:VEVENT
BEGIN:VEVENT
DTSTART;VALUE=DATE:20251018
DTEND;VALUE=DATE:20251019
DTSTAMP:20260422T115111
CREATED:20250322T041802Z
LAST-MODIFIED:20250522T081808Z
UID:1781-1760745600-1760831999@mirigolfclub-sarawak.com
SUMMARY:35TH KGM OPEN
DESCRIPTION:35TH KGM OPEN
URL:https://mirigolfclub-sarawak.com/event/35th-kgm-open-2/
CATEGORIES:Golf Events
END:VEVENT
BEGIN:VEVENT
DTSTART;VALUE=DATE:20251019
DTEND;VALUE=DATE:20251020
DTSTAMP:20260422T115111
CREATED:20250322T041802Z
LAST-MODIFIED:20250520T135056Z
UID:1782-1760832000-1760918399@mirigolfclub-sarawak.com
SUMMARY:35TH KGM OPEN
DESCRIPTION:35TH KGM OPEN
URL:https://mirigolfclub-sarawak.com/event/35th-kgm-open-3/
CATEGORIES:Golf Events
END:VEVENT
BEGIN:VEVENT
DTSTART;VALUE=DATE:20251025
DTEND;VALUE=DATE:20251026
DTSTAMP:20260422T115111
CREATED:20250322T041422Z
LAST-MODIFIED:20250527T141325Z
UID:1766-1761350400-1761436799@mirigolfclub-sarawak.com
SUMMARY:INTER-CLUB KGC @ KGC
DESCRIPTION:INTER-CLUB KGC @ KGC
URL:https://mirigolfclub-sarawak.com/event/inter-club-kgc-kgc/
CATEGORIES:Golf Events
END:VEVENT
END:VCALENDAR