BEGIN:VCALENDAR
VERSION:2.0
PRODID:-//Miri Golf Club - ECPv6.15.14//NONSGML v1.0//EN
CALSCALE:GREGORIAN
METHOD:PUBLISH
X-ORIGINAL-URL:https://mirigolfclub-sarawak.com
X-WR-CALDESC:Events for Miri Golf Club
REFRESH-INTERVAL;VALUE=DURATION:PT1H
X-Robots-Tag:noindex
X-PUBLISHED-TTL:PT1H
BEGIN:VTIMEZONE
TZID:Asia/Shanghai
BEGIN:STANDARD
TZOFFSETFROM:+0800
TZOFFSETTO:+0800
TZNAME:CST
DTSTART:20250101T000000
END:STANDARD
END:VTIMEZONE
BEGIN:VEVENT
DTSTART;VALUE=DATE:20260125
DTEND;VALUE=DATE:20260126
DTSTAMP:20260422T075431
CREATED:20251216T144613Z
LAST-MODIFIED:20260121T032442Z
UID:2789-1769299200-1769385599@mirigolfclub-sarawak.com
SUMMARY:JAN JNR GOLF
DESCRIPTION:JAN JNR GOLF
URL:https://mirigolfclub-sarawak.com/event/jan-junior-golf/
CATEGORIES:Golf Events
END:VEVENT
END:VCALENDAR