BEGIN:VCALENDAR
VERSION:2.0
PRODID:-//Miri Golf Club - ECPv6.15.14//NONSGML v1.0//EN
CALSCALE:GREGORIAN
METHOD:PUBLISH
X-WR-CALNAME:Miri Golf Club
X-ORIGINAL-URL:https://mirigolfclub-sarawak.com
X-WR-CALDESC:Events for Miri Golf Club
REFRESH-INTERVAL;VALUE=DURATION:PT1H
X-Robots-Tag:noindex
X-PUBLISHED-TTL:PT1H
BEGIN:VTIMEZONE
TZID:UTC
BEGIN:STANDARD
TZOFFSETFROM:+0000
TZOFFSETTO:+0000
TZNAME:UTC
DTSTART:20240101T000000
END:STANDARD
END:VTIMEZONE
BEGIN:VEVENT
DTSTART;VALUE=DATE:20251211
DTEND;VALUE=DATE:20251212
DTSTAMP:20260422T100417
CREATED:20250322T042203Z
LAST-MODIFIED:20250322T042203Z
UID:1794-1765411200-1765497599@mirigolfclub-sarawak.com
SUMMARY:19TH KGM JNR CSHIP
DESCRIPTION:19TH KGM JNR CSHIP
URL:https://mirigolfclub-sarawak.com/event/19th-kgm-jnr-cship-2/
CATEGORIES:Golf Events
END:VEVENT
END:VCALENDAR