BEGIN:VCALENDAR
VERSION:2.0
PRODID:-//Miri Golf Club - ECPv6.15.14//NONSGML v1.0//EN
CALSCALE:GREGORIAN
METHOD:PUBLISH
X-ORIGINAL-URL:https://mirigolfclub-sarawak.com
X-WR-CALDESC:Events for Miri Golf Club
REFRESH-INTERVAL;VALUE=DURATION:PT1H
X-Robots-Tag:noindex
X-PUBLISHED-TTL:PT1H
BEGIN:VTIMEZONE
TZID:UTC
BEGIN:STANDARD
TZOFFSETFROM:+0000
TZOFFSETTO:+0000
TZNAME:UTC
DTSTART:20240101T000000
END:STANDARD
END:VTIMEZONE
BEGIN:VEVENT
DTSTART;VALUE=DATE:20251206
DTEND;VALUE=DATE:20251207
DTSTAMP:20260422T095522
CREATED:20250322T042003Z
LAST-MODIFIED:20250322T042003Z
UID:1792-1764979200-1765065599@mirigolfclub-sarawak.com
SUMMARY:DEC MMEDAL
DESCRIPTION:DEC MMEDAL
URL:https://mirigolfclub-sarawak.com/event/dec-mmedal/
CATEGORIES:Golf Events
END:VEVENT
END:VCALENDAR