BEGIN:VCALENDAR
VERSION:2.0
PRODID:-//Miri Golf Club - ECPv6.15.14//NONSGML v1.0//EN
CALSCALE:GREGORIAN
METHOD:PUBLISH
X-WR-CALNAME:Miri Golf Club
X-ORIGINAL-URL:https://mirigolfclub-sarawak.com
X-WR-CALDESC:Events for Miri Golf Club
REFRESH-INTERVAL;VALUE=DURATION:PT1H
X-Robots-Tag:noindex
X-PUBLISHED-TTL:PT1H
BEGIN:VTIMEZONE
TZID:UTC
BEGIN:STANDARD
TZOFFSETFROM:+0000
TZOFFSETTO:+0000
TZNAME:UTC
DTSTART:20240101T000000
END:STANDARD
END:VTIMEZONE
BEGIN:VEVENT
DTSTART;VALUE=DATE:20250906
DTEND;VALUE=DATE:20250907
DTSTAMP:20260422T152934
CREATED:20250322T041601Z
LAST-MODIFIED:20250527T155841Z
UID:1775-1757116800-1757203199@mirigolfclub-sarawak.com
SUMMARY:SEPT MMEDAL
DESCRIPTION:SEPT MMEDAL
URL:https://mirigolfclub-sarawak.com/event/sept-mmedal-q-rd-splay-cship/
CATEGORIES:Golf Events
END:VEVENT
END:VCALENDAR